BEGIN:VCALENDAR
VERSION:2.0
PRODID:-//smwlu49.org - ECPv6.15.20//NONSGML v1.0//EN
CALSCALE:GREGORIAN
METHOD:PUBLISH
X-WR-CALNAME:smwlu49.org
X-ORIGINAL-URL:https://smwlu49.org
X-WR-CALDESC:Events for smwlu49.org
REFRESH-INTERVAL;VALUE=DURATION:PT1H
X-Robots-Tag:noindex
X-PUBLISHED-TTL:PT1H
BEGIN:VTIMEZONE
TZID:America/Los_Angeles
BEGIN:DAYLIGHT
TZOFFSETFROM:-0800
TZOFFSETTO:-0700
TZNAME:PDT
DTSTART:20250309T100000
END:DAYLIGHT
BEGIN:STANDARD
TZOFFSETFROM:-0700
TZOFFSETTO:-0800
TZNAME:PST
DTSTART:20251102T090000
END:STANDARD
BEGIN:DAYLIGHT
TZOFFSETFROM:-0800
TZOFFSETTO:-0700
TZNAME:PDT
DTSTART:20260308T100000
END:DAYLIGHT
BEGIN:STANDARD
TZOFFSETFROM:-0700
TZOFFSETTO:-0800
TZNAME:PST
DTSTART:20261101T090000
END:STANDARD
BEGIN:DAYLIGHT
TZOFFSETFROM:-0800
TZOFFSETTO:-0700
TZNAME:PDT
DTSTART:20270314T100000
END:DAYLIGHT
BEGIN:STANDARD
TZOFFSETFROM:-0700
TZOFFSETTO:-0800
TZNAME:PST
DTSTART:20271107T090000
END:STANDARD
END:VTIMEZONE
BEGIN:VEVENT
DTSTART;TZID=America/Los_Angeles:20260522T170000
DTEND;TZID=America/Los_Angeles:20260522T200000
DTSTAMP:20260423T204801
CREATED:20260420T202244Z
LAST-MODIFIED:20260420T202258Z
UID:2350-1779469200-1779480000@smwlu49.org
SUMMARY:Sheet Metal Workers Local 49 Union Meeting
DESCRIPTION:Location Union Hall 2300 Buena Vista SE\, Albuquerque\, NM 87106\nDinner and non-alcoholic beverages are provided. All members welcome.
URL:https://smwlu49.org/jatc-event/sheet-metal-workers-local-49-union-meeting-5-22-26/
LOCATION:Albuquerque Office\, 2300 Buena Vista Drive SE Ste 110\, Albuquerque\, NM\, 87106\, United States
CATEGORIES:Meeting
ATTACH;FMTTYPE=image/jpeg:https://smwlu49.org/wp-content/uploads/2026/04/Smart-SMW-LU-49-423.jpg
END:VEVENT
BEGIN:VEVENT
DTSTART;TZID=America/Los_Angeles:20260619T170000
DTEND;TZID=America/Los_Angeles:20260619T200000
DTSTAMP:20260423T204801
CREATED:20260420T202037Z
LAST-MODIFIED:20260420T202211Z
UID:2349-1781888400-1781899200@smwlu49.org
SUMMARY:Sheet Metal Workers Local 49 Union Meeting
DESCRIPTION:Location Union Hall 2300 Buena Vista SE\, Albuquerque\, NM 87106\nDinner and non-alcoholic beverages are provided. All members welcome.
URL:https://smwlu49.org/jatc-event/sheet-metal-workers-local-49-union-meeting-6-19-26/
LOCATION:Albuquerque Office\, 2300 Buena Vista Drive SE Ste 110\, Albuquerque\, NM\, 87106\, United States
CATEGORIES:Meeting
ATTACH;FMTTYPE=image/jpeg:https://smwlu49.org/wp-content/uploads/2026/04/Smart-SMW-LU-49-423.jpg
END:VEVENT
BEGIN:VEVENT
DTSTART;TZID=America/Los_Angeles:20260717T170000
DTEND;TZID=America/Los_Angeles:20260717T200000
DTSTAMP:20260423T204801
CREATED:20260420T201905Z
LAST-MODIFIED:20260420T202342Z
UID:2346-1784307600-1784318400@smwlu49.org
SUMMARY:Sheet Metal Workers Local 49 Union Meeting
DESCRIPTION:Location Union Hall 2300 Buena Vista SE\, Albuquerque\, NM 87106\nDinner and non-alcoholic beverages are provided. All members welcome.
URL:https://smwlu49.org/jatc-event/sheet-metal-workers-local-49-union-meeting-7-17-26/
LOCATION:Albuquerque Office\, 2300 Buena Vista Drive SE Ste 110\, Albuquerque\, NM\, 87106\, United States
CATEGORIES:Meeting
ATTACH;FMTTYPE=image/jpeg:https://smwlu49.org/wp-content/uploads/2026/04/Smart-SMW-LU-49-423.jpg
END:VEVENT
BEGIN:VEVENT
DTSTART;TZID=America/Los_Angeles:20260821T170000
DTEND;TZID=America/Los_Angeles:20260821T200000
DTSTAMP:20260423T204801
CREATED:20260420T202452Z
LAST-MODIFIED:20260420T202452Z
UID:2359-1787331600-1787342400@smwlu49.org
SUMMARY:Sheet Metal Workers Local 49 Union Meeting
DESCRIPTION:Location Union Hall 2300 Buena Vista SE\, Albuquerque\, NM 87106\nDinner and non-alcoholic beverages are provided. All members welcome.
URL:https://smwlu49.org/jatc-event/sheet-metal-workers-local-49-union-meeting-8-21-26/
LOCATION:Albuquerque Office\, 2300 Buena Vista Drive SE Ste 110\, Albuquerque\, NM\, 87106\, United States
CATEGORIES:Meeting
ATTACH;FMTTYPE=image/jpeg:https://smwlu49.org/wp-content/uploads/2026/04/Smart-SMW-LU-49-423.jpg
END:VEVENT
BEGIN:VEVENT
DTSTART;TZID=America/Los_Angeles:20260918T170000
DTEND;TZID=America/Los_Angeles:20260918T200000
DTSTAMP:20260423T204801
CREATED:20260420T202517Z
LAST-MODIFIED:20260420T202517Z
UID:2358-1789750800-1789761600@smwlu49.org
SUMMARY:Sheet Metal Workers Local 49 Union Meeting
DESCRIPTION:Location Union Hall 2300 Buena Vista SE\, Albuquerque\, NM 87106\nDinner and non-alcoholic beverages are provided. All members welcome.
URL:https://smwlu49.org/jatc-event/sheet-metal-workers-local-49-union-meeting-9-18-26/
LOCATION:Albuquerque Office\, 2300 Buena Vista Drive SE Ste 110\, Albuquerque\, NM\, 87106\, United States
CATEGORIES:Meeting
ATTACH;FMTTYPE=image/jpeg:https://smwlu49.org/wp-content/uploads/2026/04/Smart-SMW-LU-49-423.jpg
END:VEVENT
BEGIN:VEVENT
DTSTART;TZID=America/Los_Angeles:20261016T170000
DTEND;TZID=America/Los_Angeles:20261016T200000
DTSTAMP:20260423T204801
CREATED:20260420T202544Z
LAST-MODIFIED:20260420T202544Z
UID:2357-1792170000-1792180800@smwlu49.org
SUMMARY:Sheet Metal Workers Local 49 Union Meeting
DESCRIPTION:Location Union Hall 2300 Buena Vista SE\, Albuquerque\, NM 87106\nDinner and non-alcoholic beverages are provided. All members welcome.
URL:https://smwlu49.org/jatc-event/sheet-metal-workers-local-49-union-meeting-10-16-26/
LOCATION:Albuquerque Office\, 2300 Buena Vista Drive SE Ste 110\, Albuquerque\, NM\, 87106\, United States
CATEGORIES:Meeting
ATTACH;FMTTYPE=image/jpeg:https://smwlu49.org/wp-content/uploads/2026/04/Smart-SMW-LU-49-423.jpg
END:VEVENT
BEGIN:VEVENT
DTSTART;TZID=America/Los_Angeles:20261120T170000
DTEND;TZID=America/Los_Angeles:20261120T200000
DTSTAMP:20260423T204801
CREATED:20260420T202609Z
LAST-MODIFIED:20260420T202609Z
UID:2356-1795194000-1795204800@smwlu49.org
SUMMARY:Sheet Metal Workers Local 49 Union Meeting
DESCRIPTION:Location Union Hall 2300 Buena Vista SE\, Albuquerque\, NM 87106\nDinner and non-alcoholic beverages are provided. All members welcome.
URL:https://smwlu49.org/jatc-event/sheet-metal-workers-local-49-union-meeting-11-20-26/
LOCATION:Albuquerque Office\, 2300 Buena Vista Drive SE Ste 110\, Albuquerque\, NM\, 87106\, United States
CATEGORIES:Meeting
ATTACH;FMTTYPE=image/jpeg:https://smwlu49.org/wp-content/uploads/2026/04/Smart-SMW-LU-49-423.jpg
END:VEVENT
BEGIN:VEVENT
DTSTART;TZID=America/Los_Angeles:20261218T170000
DTEND;TZID=America/Los_Angeles:20261218T200000
DTSTAMP:20260423T204801
CREATED:20260420T202638Z
LAST-MODIFIED:20260420T202638Z
UID:2355-1797613200-1797624000@smwlu49.org
SUMMARY:Sheet Metal Workers Local 49 Union Meeting
DESCRIPTION:Location Union Hall 2300 Buena Vista SE\, Albuquerque\, NM 87106\nDinner and non-alcoholic beverages are provided. All members welcome.
URL:https://smwlu49.org/jatc-event/sheet-metal-workers-local-49-union-meeting-12-18-26/
LOCATION:Albuquerque Office\, 2300 Buena Vista Drive SE Ste 110\, Albuquerque\, NM\, 87106\, United States
CATEGORIES:Meeting
ATTACH;FMTTYPE=image/jpeg:https://smwlu49.org/wp-content/uploads/2026/04/Smart-SMW-LU-49-423.jpg
END:VEVENT
END:VCALENDAR